BEGIN:VCALENDAR
VERSION:2.0
PRODID:-//Fédération Départementale des Foyers Ruraux du Vaucluse - ECPv6.2.9//NONSGML v1.0//EN
CALSCALE:GREGORIAN
METHOD:PUBLISH
X-WR-CALNAME:Fédération Départementale des Foyers Ruraux du Vaucluse
X-ORIGINAL-URL:https://fdfr84.foyersruraux.org
X-WR-CALDESC:évènements pour Fédération Départementale des Foyers Ruraux du Vaucluse
REFRESH-INTERVAL;VALUE=DURATION:PT1H
X-Robots-Tag:noindex
X-PUBLISHED-TTL:PT1H
BEGIN:VTIMEZONE
TZID:Europe/Paris
BEGIN:DAYLIGHT
TZOFFSETFROM:+0100
TZOFFSETTO:+0200
TZNAME:CEST
DTSTART:20250330T010000
END:DAYLIGHT
BEGIN:STANDARD
TZOFFSETFROM:+0200
TZOFFSETTO:+0100
TZNAME:CET
DTSTART:20251026T010000
END:STANDARD
END:VTIMEZONE
BEGIN:VEVENT
DTSTART;TZID=Europe/Paris:20250524T200000
DTEND;TZID=Europe/Paris:20250524T233000
DTSTAMP:20260422T133852
CREATED:20250521T164951Z
LAST-MODIFIED:20250521T164951Z
UID:10000041-1748116800-1748129400@fdfr84.foyersruraux.org
SUMMARY:🎶 Bal Folk à Villes sur Auzon – Dansez au rythme de la tradition !
DESCRIPTION:Envie de passer une soirée festive\, chaleureuse et pleine de bonne humeur ? Rejoignez le foyer rural de Villes sur Auzon pour un bal folk où musique et danse se mêlent dans une ambiance conviviale ! \n🪗 Des mélodies entraînantes pour faire vibrer la piste … 🎻 Un moment de partage et de tradition \n🕺Que vous veniez pour danser ou simplement profiter de la musique\, laissez-vous emporter par l’énergie du bal et la joie du mouvement ! Et surtout venez avec votre sourire\, l’association se charge du reste ! \n📅 Rendez-vous le samedi 24 mai 2025 à 20h
URL:https://fdfr84.foyersruraux.org/evenement/%f0%9f%8e%b6-bal-folk-a-villes-sur-auzon-dansez-au-rythme-de-la-tradition/
CATEGORIES:Soirée
ATTACH;FMTTYPE=image/jpeg:https://fdfr84.foyersruraux.org/wp-content/uploads/sites/33/2025/05/baleti.jpg
END:VEVENT
END:VCALENDAR