BEGIN:VCALENDAR
VERSION:2.0
PRODID:-//Fédération Départementale des Foyers Ruraux du Vaucluse - ECPv6.2.9//NONSGML v1.0//EN
CALSCALE:GREGORIAN
METHOD:PUBLISH
X-ORIGINAL-URL:https://fdfr84.foyersruraux.org
X-WR-CALDESC:évènements pour Fédération Départementale des Foyers Ruraux du Vaucluse
REFRESH-INTERVAL;VALUE=DURATION:PT1H
X-Robots-Tag:noindex
X-PUBLISHED-TTL:PT1H
BEGIN:VTIMEZONE
TZID:Europe/Paris
BEGIN:DAYLIGHT
TZOFFSETFROM:+0100
TZOFFSETTO:+0200
TZNAME:CEST
DTSTART:20250330T010000
END:DAYLIGHT
BEGIN:STANDARD
TZOFFSETFROM:+0200
TZOFFSETTO:+0100
TZNAME:CET
DTSTART:20251026T010000
END:STANDARD
END:VTIMEZONE
BEGIN:VEVENT
DTSTART;TZID=Europe/Paris:20251011T190000
DTEND;TZID=Europe/Paris:20251011T230000
DTSTAMP:20260422T051703
CREATED:20250908T080507Z
LAST-MODIFIED:20250908T080507Z
UID:10000090-1760209200-1760223600@fdfr84.foyersruraux.org
SUMMARY:Soirée astronomie à Cheval Blanc - "Le jour dans la nuit"
DESCRIPTION:Rejoignez la section astronomie “Pégase astronomie” pour une nuit sous les étoiles.  \nRDV le samedi 11 octobre 2025 à 19h sur le parking du stade de Cheval Blanc
URL:https://fdfr84.foyersruraux.org/evenement/soiree-astronomie-a-cheval-blanc-le-jour-dans-la-nuit/
CATEGORIES:Soirée
ATTACH;FMTTYPE=image/jpeg:https://fdfr84.foyersruraux.org/wp-content/uploads/sites/33/2025/09/545411371_1922082745316764_1964466127444592939_n.jpg
END:VEVENT
BEGIN:VEVENT
DTSTART;TZID=Europe/Paris:20251024T200000
DTEND;TZID=Europe/Paris:20251024T230000
DTSTAMP:20260422T051703
CREATED:20251015T150816Z
LAST-MODIFIED:20251015T151054Z
UID:10000128-1761336000-1761346800@fdfr84.foyersruraux.org
SUMMARY:🎶 Soirée Latino à Roussillon – Va a bailar ! 💃🕺
DESCRIPTION:Le rythme s’invite à Roussillon pour une soirée pleine de chaleur et de bonne humeur !  \nRejoignez le foyer rural Bien Vivre à Roussillon pour leur prochaine soirée latino\, entre musique entraînante\, danse\, convivialité et ambiance festive. \n📅 Date : vendredi 24 octobre 2025 \n📍 Lieu et horaire : Salle des fêtes de Roussillon\, à 20h et ou 21h \n🎉 Participation : 10€ avec une conso offerte \nQue vous soyez danseur·se confirmé·e ou juste curieux·se de découvrir l’ambiance\, venez partager ce moment avec l’association !
URL:https://fdfr84.foyersruraux.org/evenement/%f0%9f%8e%b6-soiree-latino-a-roussillon-va-a-bailar-%f0%9f%92%83%f0%9f%95%ba/
CATEGORIES:Soirée
ATTACH;FMTTYPE=image/jpeg:https://fdfr84.foyersruraux.org/wp-content/uploads/sites/33/2025/10/559123458_25339717205636102_1959723925322109919_n.jpg
END:VEVENT
END:VCALENDAR