BEGIN:VCALENDAR
VERSION:2.0
PRODID:-//Fédération Départementale des Foyers Ruraux du Vaucluse - ECPv6.2.9//NONSGML v1.0//EN
CALSCALE:GREGORIAN
METHOD:PUBLISH
X-ORIGINAL-URL:https://fdfr84.foyersruraux.org
X-WR-CALDESC:évènements pour Fédération Départementale des Foyers Ruraux du Vaucluse
REFRESH-INTERVAL;VALUE=DURATION:PT1H
X-Robots-Tag:noindex
X-PUBLISHED-TTL:PT1H
BEGIN:VTIMEZONE
TZID:Europe/Paris
BEGIN:DAYLIGHT
TZOFFSETFROM:+0100
TZOFFSETTO:+0200
TZNAME:CEST
DTSTART:20250330T010000
END:DAYLIGHT
BEGIN:STANDARD
TZOFFSETFROM:+0200
TZOFFSETTO:+0100
TZNAME:CET
DTSTART:20251026T010000
END:STANDARD
END:VTIMEZONE
BEGIN:VEVENT
DTSTART;TZID=Europe/Paris:20251205T180000
DTEND;TZID=Europe/Paris:20251207T180000
DTSTAMP:20260424T115227
CREATED:20251205T094751Z
LAST-MODIFIED:20251205T094751Z
UID:10000159-1764957600-1765130400@fdfr84.foyersruraux.org
SUMMARY:🎗 Téléthon 2025 à Mérindol – 5\, 6 et 7 décembre
DESCRIPTION:Le Téléthon s’installe à Mérindol pour trois jours de solidarité et de convivialité ! Venez nombreux participer aux animations organisées par les associations locales : \n📅 Vendredi 5 décembre – Rencontre Badminton ➡️ À partir de 18h\, venez échanger quelques volants dans une ambiance sportive et amicale tout au long de la nuit. \n📅 Samedi 6 décembre  \n\nZumba Party à 10h\, salle des fêtes\nConcours de la plus grande tarte à 11H\nConcert du groupe “Mardi soir” à 18h\n\n📅 Dimanche 7 décembre – Grand Loto à partir de 14h30 \n💪 Chaque participation contribue à soutenir la recherche et à faire avancer la lutte contre les maladies rares.
URL:https://fdfr84.foyersruraux.org/evenement/%f0%9f%8e%97-telethon-2025-a-merindol-5-6-et-7-decembre/
CATEGORIES:Solidarité
ATTACH;FMTTYPE=image/jpeg:https://fdfr84.foyersruraux.org/wp-content/uploads/sites/33/2025/12/589737125_842004058419696_1640807365547775472_n.jpg
END:VEVENT
BEGIN:VEVENT
DTSTART;TZID=Europe/Paris:20251206T100000
DTEND;TZID=Europe/Paris:20251206T113000
DTSTAMP:20260424T115227
CREATED:20251205T093859Z
LAST-MODIFIED:20251205T095831Z
UID:10000158-1765015200-1765020600@fdfr84.foyersruraux.org
SUMMARY:🔥 Zumba en famille pour le Téléthon ! 🔥
DESCRIPTION:Venez participer à un cours de Zumba spécial Téléthon ce samedi 6 décembre à 10h\, à la salle des fêtes. \n👨‍👩‍👧‍👦 Venez en famille\, entre amis\, et bougez pour la bonne cause !  \n💪 Ensemble\, faisons du sport tout en soutenant la recherche. \n📣 Partagez l’info autour de vous : plus on est nombreux\, plus l’énergie sera forte ! On compte sur vous ce samedi à 10h ! \nMerci pour votre soutien 💃🏽✨
URL:https://fdfr84.foyersruraux.org/evenement/%f0%9f%94%a5-zumba-en-famille-pour-le-telethon-%f0%9f%94%a5/
CATEGORIES:Solidarité
ATTACH;FMTTYPE=image/jpeg:https://fdfr84.foyersruraux.org/wp-content/uploads/sites/33/2025/12/592015130_844789454807823_7724094460341933680_n.jpg
END:VEVENT
END:VCALENDAR