BEGIN:VCALENDAR
VERSION:2.0
PRODID:-//Fédération Départementale des Foyers Ruraux du Vaucluse - ECPv6.2.9//NONSGML v1.0//EN
CALSCALE:GREGORIAN
METHOD:PUBLISH
X-WR-CALNAME:Fédération Départementale des Foyers Ruraux du Vaucluse
X-ORIGINAL-URL:https://fdfr84.foyersruraux.org
X-WR-CALDESC:évènements pour Fédération Départementale des Foyers Ruraux du Vaucluse
REFRESH-INTERVAL;VALUE=DURATION:PT1H
X-Robots-Tag:noindex
X-PUBLISHED-TTL:PT1H
BEGIN:VTIMEZONE
TZID:Europe/Paris
BEGIN:DAYLIGHT
TZOFFSETFROM:+0100
TZOFFSETTO:+0200
TZNAME:CEST
DTSTART:20250330T010000
END:DAYLIGHT
BEGIN:STANDARD
TZOFFSETFROM:+0200
TZOFFSETTO:+0100
TZNAME:CET
DTSTART:20251026T010000
END:STANDARD
END:VTIMEZONE
BEGIN:VEVENT
DTSTART;TZID=Europe/Paris:20251005T080000
DTEND;TZID=Europe/Paris:20251005T170000
DTSTAMP:20260422T073354
CREATED:20250827T125437Z
LAST-MODIFIED:20250827T125437Z
UID:10000082-1759651200-1759683600@fdfr84.foyersruraux.org
SUMMARY:🏁 Rallye Voiture Associatif – Une aventure sur les routes locales
DESCRIPTION:Préparez vos véhicules et votre bonne humeur : le foyer Bien Vivre à Roussillon en Pce vous invite à participer à son rallye voiture\, une journée ludique et pleine de surprises à travers les paysages de notre région. \nCe rallye n’est pas une course de vitesse\, mais un parcours ponctué d’énigmes\, de défis et d’étapes insolites. En famille\, entre amis ou entre passionnés\, venez tester votre sens de l’orientation\, votre esprit d’équipe et votre curiosité ! \n📅 Date : dimanche 5 octobre 2025 \n📍 Départ : départ du local de l’IGN \n🕘 Heure : entre 8h et 8h30 \n🎯 Objectif : s’amuser\, découvrir et partager un moment convivial  \n🎁 Récompenses pour les équipes les plus astucieuses ! \n Participation sur inscription / tarif: 25€ pour membres ou 30€ extérieur
URL:https://fdfr84.foyersruraux.org/evenement/%f0%9f%8f%81-rallye-voiture-associatif-une-aventure-sur-les-routes-locales/
CATEGORIES:Sortie
ATTACH;FMTTYPE=image/jpeg:https://fdfr84.foyersruraux.org/wp-content/uploads/sites/33/2025/08/image1.jpeg
END:VEVENT
END:VCALENDAR