BEGIN:VCALENDAR
VERSION:2.0
PRODID:-//Fédération Départementale des Foyers Ruraux du Vaucluse - ECPv6.2.9//NONSGML v1.0//EN
CALSCALE:GREGORIAN
METHOD:PUBLISH
X-ORIGINAL-URL:https://fdfr84.foyersruraux.org
X-WR-CALDESC:évènements pour Fédération Départementale des Foyers Ruraux du Vaucluse
REFRESH-INTERVAL;VALUE=DURATION:PT1H
X-Robots-Tag:noindex
X-PUBLISHED-TTL:PT1H
BEGIN:VTIMEZONE
TZID:Europe/Paris
BEGIN:DAYLIGHT
TZOFFSETFROM:+0100
TZOFFSETTO:+0200
TZNAME:CEST
DTSTART:20250330T010000
END:DAYLIGHT
BEGIN:STANDARD
TZOFFSETFROM:+0200
TZOFFSETTO:+0100
TZNAME:CET
DTSTART:20251026T010000
END:STANDARD
END:VTIMEZONE
BEGIN:VEVENT
DTSTART;TZID=Europe/Paris:20250201T143000
DTEND;TZID=Europe/Paris:20250201T160000
DTSTAMP:20260422T053618
CREATED:20250121T155516Z
LAST-MODIFIED:20250121T155516Z
UID:10000005-1738420200-1738425600@fdfr84.foyersruraux.org
SUMMARY:Du GATEBALL à Séguret !
DESCRIPTION:Venez jouer avec le foyer rural “les Agités du Local” au GATEBALL\, jeu d’origine japonaise.\n\nL’association propose 4 dates pour les 2 mois à venir au stade de Séguret. RDV\n\nLes 1er et 15 février de 14h30 à 16h\net les 1er et 15 mars de 10h à midi\n\nJeu intergénérationnel : à partir 7 ans et sans limite d’âge .
URL:https://fdfr84.foyersruraux.org/evenement/du-gateball-a-seguret/
ATTACH;FMTTYPE=image/jpeg:https://fdfr84.foyersruraux.org/wp-content/uploads/sites/33/2025/01/474533118_2452521845104137_8373820422654695034_n.jpg
END:VEVENT
BEGIN:VEVENT
DTSTART;TZID=Europe/Paris:20250201T200000
DTEND;TZID=Europe/Paris:20250201T230000
DTSTAMP:20260422T053618
CREATED:20250121T154921Z
LAST-MODIFIED:20250121T154921Z
UID:10000004-1738440000-1738450800@fdfr84.foyersruraux.org
SUMMARY:Soirée soupes avec le foyer rural Le Barroux
DESCRIPTION:Rien de tel pour réchauffer les corps et les cœurs qu’une bonne soupe en bonne compagnie !Retrouvez l’équipe du foyer rural du Barroux et venez déguster des soupes maison et de saison . Avec la participation de la chorale gourmande.
URL:https://fdfr84.foyersruraux.org/evenement/soiree-soupes-avec-le-foyer-rural-le-barroux/
CATEGORIES:Soirée
ATTACH;FMTTYPE=image/jpeg:https://fdfr84.foyersruraux.org/wp-content/uploads/sites/33/2025/01/473212058_2626410901081082_8263699369580254699_n.jpg
END:VEVENT
BEGIN:VEVENT
DTSTART;TZID=Europe/Paris:20250202T170000
DTEND;TZID=Europe/Paris:20250202T203000
DTSTAMP:20260422T053618
CREATED:20250121T161743Z
LAST-MODIFIED:20250121T161743Z
UID:10000008-1738515600-1738528200@fdfr84.foyersruraux.org
SUMMARY:Soirée spectacle 'Confidences\, entre bonheurs et désillusions" à Cabrières d'Avignon
DESCRIPTION:L’association « 𝐂𝐚𝐟é 𝐂𝐮𝐥𝐭𝐮𝐫𝐞 » vous propose une pièce de théâtre le 𝒹𝒾𝓂𝒶𝓃𝒸𝒽𝑒 𝟤 𝒻é𝓋𝓇𝒾𝑒𝓇 à 𝟣𝟩𝒽 à la salle des fêtes de Cabrières.\nLa troupe du Foyer rural de Gordes présentera son dernier spectacle « ℂ𝕠𝕟𝕗𝕚𝕕𝕖𝕟𝕔𝕖𝕤 ».\n\n𝘌𝘯𝘵𝘳é𝘦 10 𝘦𝘶𝘳𝘰𝘴 𝘢𝘶 𝘱𝘳𝘰𝘧𝘪𝘵 𝘥𝘶 𝘛é𝘭é𝘵𝘩𝘰𝘯.
URL:https://fdfr84.foyersruraux.org/evenement/soiree-spectacle-confidences-entre-bonheurs-et-desillusions-a-cabrieres-davignon/
CATEGORIES:Théâtre
ATTACH;FMTTYPE=image/jpeg:https://fdfr84.foyersruraux.org/wp-content/uploads/sites/33/2025/01/473007207_617054004326482_5289424323168742079_n.jpg
END:VEVENT
BEGIN:VEVENT
DTSTART;TZID=Europe/Paris:20250221T190000
DTEND;TZID=Europe/Paris:20250223T173000
DTSTAMP:20260422T053618
CREATED:20250121T162627Z
LAST-MODIFIED:20250121T162627Z
UID:10000010-1740164400-1740331800@fdfr84.foyersruraux.org
SUMMARY:Stage de clown avec le foyer rural de Saignon
DESCRIPTION:En plein hiver\, réveillons nous  Libérons notre enfant intérieur\, nos énergies créatrices\, osons ! Donnons de la joie aux autres\, au monde ! \n\n\nVenez participer à un stage de clown “Clown toi m’aime”  le vendredi 21\, samedi 22 et dimanche 23 février à Saignon\, animé par Claudine HERRERO\n160€/3 jours\nDe 10h à 17h30\nRéservation au 06 09 91 06 50
URL:https://fdfr84.foyersruraux.org/evenement/stage-de-clown-avec-le-foyer-rural-de-saignon/
CATEGORIES:Théâtre
ATTACH;FMTTYPE=image/jpeg:https://fdfr84.foyersruraux.org/wp-content/uploads/sites/33/2025/01/472863706_2624910357897803_5834191299692201792_n.jpg
END:VEVENT
BEGIN:VEVENT
DTSTART;TZID=Europe/Paris:20250225T090000
DTEND;TZID=Europe/Paris:20250225T113000
DTSTAMP:20260422T053618
CREATED:20250218T161934Z
LAST-MODIFIED:20250218T161934Z
UID:10000011-1740474000-1740483000@fdfr84.foyersruraux.org
SUMMARY:Réunion d’information – Appel à projets “Grandir en Milieu Rural”
DESCRIPTION:Pour que vous puissiez mieux comprendre les conditions de dépôt\, les projets pouvant être soutenus\, les formalités administratives etc. le FDFR84 organise une réunion en partenariat avec la MSA Alpes-Vaucluse le mardi 25 février 2025 de 9h30 à 11h30\, au 25 bd Paul Pons\, L’Isle sur la sorgue. De plus\, les foyers ruraux ayant obtenus un financement l’an dernier découvriront aussi les attendus pour déposer leur bilan. \nAttention : pour savoir si vous êtes éligibles\, merci de nous contacter à l’adresse suivante : fdfr.84@mouvement rural.org
URL:https://fdfr84.foyersruraux.org/evenement/reunion-dinformation-appel-a-projets-grandir-en-milieu-rural/
CATEGORIES:Formation
ATTACH;FMTTYPE=image/png:https://fdfr84.foyersruraux.org/wp-content/uploads/sites/33/2025/02/Runion-information-GMR-2025.png
END:VEVENT
END:VCALENDAR