BEGIN:VCALENDAR
VERSION:2.0
PRODID:-//Fédération Départementale des Foyers Ruraux du Vaucluse - ECPv6.2.9//NONSGML v1.0//EN
CALSCALE:GREGORIAN
METHOD:PUBLISH
X-ORIGINAL-URL:https://fdfr84.foyersruraux.org
X-WR-CALDESC:évènements pour Fédération Départementale des Foyers Ruraux du Vaucluse
REFRESH-INTERVAL;VALUE=DURATION:PT1H
X-Robots-Tag:noindex
X-PUBLISHED-TTL:PT1H
BEGIN:VTIMEZONE
TZID:Europe/Paris
BEGIN:DAYLIGHT
TZOFFSETFROM:+0100
TZOFFSETTO:+0200
TZNAME:CEST
DTSTART:20250330T010000
END:DAYLIGHT
BEGIN:STANDARD
TZOFFSETFROM:+0200
TZOFFSETTO:+0100
TZNAME:CET
DTSTART:20251026T010000
END:STANDARD
END:VTIMEZONE
BEGIN:VEVENT
DTSTART;TZID=Europe/Paris:20250726T100000
DTEND;TZID=Europe/Paris:20250810T210000
DTSTAMP:20260421T200033
CREATED:20250717T124650Z
LAST-MODIFIED:20250717T124650Z
UID:10000072-1753524000-1754859600@fdfr84.foyersruraux.org
SUMMARY:🔍Escape Game avec la Cie D'Artiel de Pertuis
DESCRIPTION:🔐 Escape Game Estival : Le mystère vous attend ! \nCet été\, la Compagnie D’Artiel vous invite à vivre une aventure palpitante au cœur de Petuis ! Par équipe\, venez relever le défi de leur escape game grandeur nature\, imaginé et animé par les bénévoles. \n💡 Enigmes\, épreuves\, indices cachés… Plongés dans un scénario original\, vous devrez faire preuve de logique\, d’esprit d’équipe et d’un brin de audace pour résoudre le mystère en un temps limité. \n🎭 Que vous soyez entre amis\, en famille ou en quête d’une expérience insolite\, cette activité est ouverte à tous les curieux. Préparez-vous à vivre un moment ludique\, immersif et plein de rebondissements ! 🔍 \n\n\nLes inscriptions sont ouvertes  !
URL:https://fdfr84.foyersruraux.org/evenement/%f0%9f%94%8descape-game-avec-la-cie-dartiel-de-pertuis/
CATEGORIES:Activités
ATTACH;FMTTYPE=image/jpeg:https://fdfr84.foyersruraux.org/wp-content/uploads/sites/33/2025/07/518227816_1891395715143310_2306174853879157799_n.jpg
END:VEVENT
BEGIN:VEVENT
DTSTART;TZID=Europe/Paris:20250728T180000
DTEND;TZID=Europe/Paris:20250807T200000
DTSTAMP:20260421T200033
CREATED:20250717T125325Z
LAST-MODIFIED:20250717T125325Z
UID:10000073-1753725600-1754596800@fdfr84.foyersruraux.org
SUMMARY:Stages d'été : initiation à la céramique à Mérindol
DESCRIPTION:🎨 Stages Céramique : Tour & Modelage – Venez mettre les mains dans la terre ! \nLe foyer rural de Mérindol vous propose six journées dédiées à la découverte et à la pratique de la céramique. \n📌 Stage Tour : Initiez-vous au tournage sur un véritable tour de potier. Apprenez à centrer la terre\, à façonner bols\, gobelets ou pièces uniques… dans une ambiance bienveillante et créative. \n📌 Stage Modelage : Explorez la magie de la céramique par le modelage à la main. Laissez libre cours à votre imagination en sculptant formes\, textures et objets décoratifs. \nCes ateliers s’adressent à tous les publics\, débutants comme passionnés. Les places sont limitées pour garantir un accompagnement personnalisé. \nUn moment de détente\, de partage et de création à ne pas manquer ! 👐✨
URL:https://fdfr84.foyersruraux.org/evenement/stages-dete-initiation-a-la-ceramique-a-merindol/
CATEGORIES:Activités
ATTACH;FMTTYPE=image/jpeg:https://fdfr84.foyersruraux.org/wp-content/uploads/sites/33/2025/07/518132216_733118229308280_2491675138501714862_n.jpg
END:VEVENT
BEGIN:VEVENT
DTSTART;TZID=Europe/Paris:20250801T200000
DTEND;TZID=Europe/Paris:20250801T230000
DTSTAMP:20260421T200033
CREATED:20250730T092231Z
LAST-MODIFIED:20250730T092231Z
UID:10000074-1754078400-1754089200@fdfr84.foyersruraux.org
SUMMARY:🌌 La Nuit des Étoiles : rendez-vous magique avec le ciel
DESCRIPTION:Chaque été\, Pégase astronomie vous invite à lever les yeux vers l’infini\, à l’occasion de la Nuit des Étoiles. C’est une soirée dédiée à l’exploration et au partage\, où petits et grands viennent découvrir les mystères de l’univers. \nAu programme : observation du ciel étoilé avec télescopes\, découverte des constellations\, explications sur les planètes visibles. \nGuidés par des passionnés\, vous pourrez comprendre les phénomènes célestes et goûter à la beauté silencieuse de la voûte nocturne. Un moment suspendu\, loin des écrans\, tout près des étoiles.
URL:https://fdfr84.foyersruraux.org/evenement/%f0%9f%8c%8c-la-nuit-des-etoiles-rendez-vous-magique-avec-le-ciel/
CATEGORIES:Soirée
ATTACH;FMTTYPE=image/jpeg:https://fdfr84.foyersruraux.org/wp-content/uploads/sites/33/2025/07/524882784_1888329738692065_4076522563701820145_n.jpg
END:VEVENT
BEGIN:VEVENT
DTSTART;TZID=Europe/Paris:20250815T170000
DTEND;TZID=Europe/Paris:20250815T230000
DTSTAMP:20260421T200033
CREATED:20250730T092637Z
LAST-MODIFIED:20250730T092637Z
UID:10000075-1755277200-1755298800@fdfr84.foyersruraux.org
SUMMARY:🧺 Vide-Grenier à Villes sur Auzon : Trésors cachés et ambiance conviviale !
DESCRIPTION:À l’occasion du vide-grenier du foyer rural de Villes sur Auzon\, les greniers s’ouvrent\, les caves se vident\, et les trouvailles prennent vie. \nEntre objets insolites\, vêtements vintage\, livres oubliés\, jouets d’antan et petits meubles pleins de charme\, chacun y trouvera son bonheur. Les chineurs passionnés\, les curieux du dimanche et les amateurs de bonnes affaires sont tous les bienvenus !
URL:https://fdfr84.foyersruraux.org/evenement/%f0%9f%a7%ba-vide-grenier-a-villes-sur-auzon-tresors-caches-et-ambiance-conviviale/
CATEGORIES:Sortie
ATTACH;FMTTYPE=image/jpeg:https://fdfr84.foyersruraux.org/wp-content/uploads/sites/33/2025/07/521291252_752865583766677_6002286624504589466_n.jpg
END:VEVENT
BEGIN:VEVENT
DTSTART;TZID=Europe/Paris:20250825T180000
DTEND;TZID=Europe/Paris:20250825T193000
DTSTAMP:20260421T200033
CREATED:20250827T120755Z
LAST-MODIFIED:20250827T120755Z
UID:10000081-1756144800-1756150200@fdfr84.foyersruraux.org
SUMMARY:📣 Inscriptions 2025–2026 avec le FR de Cheval Blanc
DESCRIPTION:Le Foyer Rural vous donne rendez-vous pour sa soirée d’inscriptions le lundi 25 août\, de 18h à 19h30\, à la salle Marie Mauron de Cheval-Blanc. \nVenez découvrir toutes leurs activités pour la nouvelle saison\, poser vos questions\, rencontrer l’équipe et vous inscrire dans une ambiance conviviale ! \n🧘‍♀️🎨🎭 Sport\, culture\, loisirs… il y en a pour tous les goûts et tous les âges. \nIls/elles vous attendent nombreux et nombreuses !
URL:https://fdfr84.foyersruraux.org/evenement/%f0%9f%93%a3-inscriptions-2025-2026-avec-le-fr-de-cheval-blanc/
CATEGORIES:Activités
ATTACH;FMTTYPE=image/jpeg:https://fdfr84.foyersruraux.org/wp-content/uploads/sites/33/2025/08/514283513_1091357069794659_9033317517324179880_n.jpg
END:VEVENT
BEGIN:VEVENT
DTSTART;TZID=Europe/Paris:20250829T200000
DTEND;TZID=Europe/Paris:20250829T230000
DTSTAMP:20260421T200033
CREATED:20250827T120152Z
LAST-MODIFIED:20250827T120152Z
UID:10000080-1756497600-1756508400@fdfr84.foyersruraux.org
SUMMARY:🌠 La tête dans les étoiles – direction Cheval Blanc!
DESCRIPTION:Le ciel nous offre ses merveilles …  RDV le 29 août avec Pégase Astronomie qui vous propose une soirée magique à l’occasion de la Nuit des Étoiles : un moment suspendu entre science\, poésie et émerveillement. \n🔭 Observation du ciel avec télescopes 🌌 Découverte des constellations et des planètes 📖 Petites histoires célestes pour rêver les yeux ouverts 🎶 Ambiance conviviale et douce sous les étoiles \nQue vous soyez passionné·e d’astronomie ou simplement curieux·se\, cette soirée est ouverte à tous les publics. Venez avec une couverture\, un coussin\, et surtout… votre envie de rêver ! \n📍 Lieu : sur le parking du stade à Cheval Blanc (543 grande rue) \n🕖 Horaire : à partir de 20h \n💫 Participation libre et joyeuse
URL:https://fdfr84.foyersruraux.org/evenement/%f0%9f%8c%a0-la-tete-dans-les-etoiles-direction-cheval-blanc/
CATEGORIES:Soirée
ATTACH;FMTTYPE=image/jpeg:https://fdfr84.foyersruraux.org/wp-content/uploads/sites/33/2025/08/537874129_1910228546502184_5954475405766613061_n.jpg
END:VEVENT
END:VCALENDAR